BEGIN:VCALENDAR
VERSION:2.0
PRODID:bsitf.georgia.gov
X-WR-TIMEZONE:America/New_York
BEGIN:VTIMEZONE
TZID:America/New_York
X-LIC-LOCATION:America/New_York
END:VTIMEZONE
BEGIN:VEVENT
UID:613f8f89dc08b
DTSTART;TZID=UTC:20191113T150000
SEQUENCE:0
TRANSP:OPAQUE
URL:https://bsitf.georgia.gov/events/2019-11-13/executive-committee-meeting
SUMMARY:Executive committee meeting
CLASS:PUBLIC
DTSTAMP:20210913T135105Z
END:VEVENT
END:VCALENDAR