BEGIN:VCALENDAR
VERSION:2.0
PRODID:bsitf.georgia.gov
X-WR-TIMEZONE:America/New_York
BEGIN:VTIMEZONE
TZID:America/New_York
X-LIC-LOCATION:America/New_York
END:VTIMEZONE
BEGIN:VEVENT
UID:613f85f3a51a2
DTSTART;VALUE=DATE:20191128
SEQUENCE:0
TRANSP:OPAQUE
DTEND;VALUE=DATE:20191130
URL:https://bsitf.georgia.gov/events/2019-11-28/office-closed
SUMMARY:Office Closed
CLASS:PUBLIC
X-MICROSOFT-CDO-ALLDAYEVENT:TRUE
DTSTAMP:20210913T131011Z
END:VEVENT
END:VCALENDAR