BEGIN:VCALENDAR
PRODID:bsitf.georgia.gov
VERSION:2.0
CALSCALE:GREGORIAN
BEGIN:VEVENT
UID:1fd88af62b9205b0b36f8cf7a0b36eea
DTSTAMP:20260424T221918Z
SUMMARY:Communications committee meeting
URL:https://bsitf.georgia.gov/events/2020-04-09/communications-committee-me
 eting
DTSTART;VALUE=DATE:20200409
X-LIC-LOCATION:America/New_York
X-WR-TIMEZONE:America/New_York
END:VEVENT
BEGIN:VTIMEZONE
TZID:America/New_York
END:VTIMEZONE
END:VCALENDAR
