BEGIN:VCALENDAR
PRODID:bsitf.georgia.gov
VERSION:2.0
CALSCALE:GREGORIAN
BEGIN:VEVENT
UID:d014d008c15031bcf4ec0699eba4ea83
DTSTAMP:20260424T221919Z
SUMMARY:Distribution committee meeting
URL:https://bsitf.georgia.gov/events/2020-04-14/distribution-committee-meet
 ing
DTSTART;VALUE=DATE:20200414
X-LIC-LOCATION:America/New_York
X-WR-TIMEZONE:America/New_York
END:VEVENT
BEGIN:VTIMEZONE
TZID:America/New_York
END:VTIMEZONE
END:VCALENDAR
