BEGIN:VCALENDAR
PRODID:bsitf.georgia.gov
VERSION:2.0
CALSCALE:GREGORIAN
BEGIN:VEVENT
UID:19d9e87bd4a78e3f0fafaf097cb3c6e6
DTSTAMP:20260424T205706Z
SUMMARY:Children and Youth committee meeting
URL:https://bsitf.georgia.gov/events/2020-04-16/children-and-youth-committe
 e-meeting
DTSTART;VALUE=DATE:20200416
X-LIC-LOCATION:America/New_York
X-WR-TIMEZONE:America/New_York
END:VEVENT
BEGIN:VTIMEZONE
TZID:America/New_York
END:VTIMEZONE
END:VCALENDAR
