BEGIN:VCALENDAR
PRODID:bsitf.georgia.gov
VERSION:2.0
CALSCALE:GREGORIAN
BEGIN:VEVENT
UID:3c57304a8bf2e0643ab34ef34796d5de
DTSTAMP:20260424T205706Z
SUMMARY:Commission meeting
URL:https://bsitf.georgia.gov/events/2020-04-23/commission-meeting
DTSTART;VALUE=DATE:20200423
X-LIC-LOCATION:America/New_York
X-WR-TIMEZONE:America/New_York
END:VEVENT
BEGIN:VTIMEZONE
TZID:America/New_York
END:VTIMEZONE
END:VCALENDAR
