BEGIN:VCALENDAR
PRODID:bsitf.georgia.gov
VERSION:2.0
CALSCALE:GREGORIAN
BEGIN:VEVENT
UID:a7fed7e39b18e9af14e842930b639bb0
DTSTAMP:20260424T205706Z
SUMMARY:Communications committee meeting
URL:https://bsitf.georgia.gov/events/2020-05-14/communications-committee-me
 eting
DTSTART;VALUE=DATE:20200514
X-LIC-LOCATION:America/New_York
X-WR-TIMEZONE:America/New_York
END:VEVENT
BEGIN:VTIMEZONE
TZID:America/New_York
END:VTIMEZONE
END:VCALENDAR
