BEGIN:VCALENDAR
PRODID:bsitf.georgia.gov
VERSION:2.0
CALSCALE:GREGORIAN
BEGIN:VEVENT
UID:734d346ec80e723584cf671a187895ed
DTSTAMP:20260424T222250Z
SUMMARY:Distribution committee meeting
URL:https://bsitf.georgia.gov/events/2020-05-19/distribution-committee-meet
 ing
DTSTART;VALUE=DATE:20200519
X-LIC-LOCATION:America/New_York
X-WR-TIMEZONE:America/New_York
END:VEVENT
BEGIN:VTIMEZONE
TZID:America/New_York
END:VTIMEZONE
END:VCALENDAR
