BEGIN:VCALENDAR
VERSION:2.0
PRODID:bsitf.georgia.gov
X-WR-TIMEZONE:America/New_York
BEGIN:VTIMEZONE
TZID:America/New_York
X-LIC-LOCATION:America/New_York
END:VTIMEZONE
BEGIN:VEVENT
UID:613ed59b007f0
DTSTART;TZID=UTC:20200520T140000
SEQUENCE:0
TRANSP:OPAQUE
URL:https://bsitf.georgia.gov/events/2020-05-20/executive-committee-meeting
SUMMARY:Executive committee meeting
CLASS:PUBLIC
DTSTAMP:20210913T003747Z
END:VEVENT
END:VCALENDAR