BEGIN:VCALENDAR
PRODID:bsitf.georgia.gov
VERSION:2.0
CALSCALE:GREGORIAN
BEGIN:VEVENT
UID:08fe4da7cc6c3f1ea864dae46197fade
DTSTAMP:20260424T221918Z
SUMMARY:Children and Youth committee meeting
URL:https://bsitf.georgia.gov/events/2020-05-21/children-and-youth-committe
 e-meeting
DTSTART;VALUE=DATE:20200521
X-LIC-LOCATION:America/New_York
X-WR-TIMEZONE:America/New_York
END:VEVENT
BEGIN:VTIMEZONE
TZID:America/New_York
END:VTIMEZONE
END:VCALENDAR
