BEGIN:VCALENDAR
PRODID:bsitf.georgia.gov
VERSION:2.0
CALSCALE:GREGORIAN
BEGIN:VEVENT
UID:11f05b203b8773682baf0e943ecc25e7
DTSTAMP:20260424T203206Z
SUMMARY:Commission meeting
URL:https://bsitf.georgia.gov/events/2020-05-28/commission-meeting
DTSTART;VALUE=DATE:20200528
X-LIC-LOCATION:America/New_York
X-WR-TIMEZONE:America/New_York
END:VEVENT
BEGIN:VTIMEZONE
TZID:America/New_York
END:VTIMEZONE
END:VCALENDAR
