BEGIN:VCALENDAR
PRODID:bsitf.georgia.gov
VERSION:2.0
CALSCALE:GREGORIAN
BEGIN:VEVENT
UID:6e69b465439d93bc51ba98b217b5045d
DTSTAMP:20260424T221918Z
SUMMARY:Communications committee meeting
URL:https://bsitf.georgia.gov/events/2020-06-11/communications-committee-me
 eting
DTSTART;VALUE=DATE:20200611
X-LIC-LOCATION:America/New_York
X-WR-TIMEZONE:America/New_York
END:VEVENT
BEGIN:VTIMEZONE
TZID:America/New_York
END:VTIMEZONE
END:VCALENDAR
