BEGIN:VCALENDAR
PRODID:bsitf.georgia.gov
VERSION:2.0
CALSCALE:GREGORIAN
BEGIN:VEVENT
UID:f8bfda079ce76019a1bfa360da8a4b1f
DTSTAMP:20260424T221919Z
SUMMARY:Distribution committee meeting
URL:https://bsitf.georgia.gov/events/2020-06-16/distribution-committee-meet
 ing
DTSTART;VALUE=DATE:20200616
X-LIC-LOCATION:America/New_York
X-WR-TIMEZONE:America/New_York
END:VEVENT
BEGIN:VTIMEZONE
TZID:America/New_York
END:VTIMEZONE
END:VCALENDAR
