BEGIN:VCALENDAR
PRODID:bsitf.georgia.gov
VERSION:2.0
CALSCALE:GREGORIAN
BEGIN:VEVENT
UID:dab24e31427d0f671b255bed63cfad52
DTSTAMP:20260425T010952Z
SUMMARY:Executive committee meeting
URL:https://bsitf.georgia.gov/events/2020-11-11/executive-committee-meeting
DTSTART;VALUE=DATE:20201111
X-LIC-LOCATION:America/New_York
X-WR-TIMEZONE:America/New_York
END:VEVENT
BEGIN:VTIMEZONE
TZID:America/New_York
END:VTIMEZONE
END:VCALENDAR
