BEGIN:VCALENDAR
PRODID:bsitf.georgia.gov
VERSION:2.0
CALSCALE:GREGORIAN
BEGIN:VEVENT
UID:940edf52893621893e2455260cba088a
DTSTAMP:20260425T010952Z
SUMMARY:Office Closed
URL:https://bsitf.georgia.gov/events/2020-11-11/office-closed
DTSTART;VALUE=DATE:20201111
X-LIC-LOCATION:America/New_York
X-WR-TIMEZONE:America/New_York
END:VEVENT
BEGIN:VTIMEZONE
TZID:America/New_York
END:VTIMEZONE
END:VCALENDAR
