BEGIN:VCALENDAR
PRODID:bsitf.georgia.gov
VERSION:2.0
CALSCALE:GREGORIAN
BEGIN:VEVENT
UID:10ff0a4ea1fe8d25c1b4122750901b3e
DTSTAMP:20260425T010952Z
SUMMARY:Distribution committee meeting
URL:https://bsitf.georgia.gov/events/2020-12-08/distribution-committee-meet
 ing
DTSTART;VALUE=DATE:20201208
X-LIC-LOCATION:America/New_York
X-WR-TIMEZONE:America/New_York
END:VEVENT
BEGIN:VTIMEZONE
TZID:America/New_York
END:VTIMEZONE
END:VCALENDAR
