BEGIN:VCALENDAR
VERSION:2.0
PRODID:bsitf.georgia.gov
X-WR-TIMEZONE:America/New_York
BEGIN:VTIMEZONE
TZID:America/New_York
X-LIC-LOCATION:America/New_York
END:VTIMEZONE
BEGIN:VEVENT
UID:613d4ba9a240c
DTSTART;TZID=UTC:20210119T183000
SEQUENCE:0
TRANSP:OPAQUE
URL:https://bsitf.georgia.gov/events/2021-01-19/finance-committee-meeting
SUMMARY:Finance committee meeting
CLASS:PUBLIC
DTSTAMP:20210911T203657Z
END:VEVENT
END:VCALENDAR