BEGIN:VCALENDAR
VERSION:2.0
PRODID:bsitf.georgia.gov
X-WR-TIMEZONE:America/New_York
BEGIN:VTIMEZONE
TZID:America/New_York
X-LIC-LOCATION:America/New_York
END:VTIMEZONE
BEGIN:VEVENT
UID:613cc0ee5c9ac
DTSTART;TZID=UTC:20210714T140000
SEQUENCE:0
TRANSP:OPAQUE
URL:https://bsitf.georgia.gov/events/2021-07-14/executive-committee-meeting
SUMMARY:Executive committee meeting
CLASS:PUBLIC
DTSTAMP:20210911T104502Z
END:VEVENT
END:VCALENDAR