BEGIN:VCALENDAR
VERSION:2.0
PRODID:bsitf.georgia.gov
X-WR-TIMEZONE:America/New_York
BEGIN:VTIMEZONE
TZID:America/New_York
X-LIC-LOCATION:America/New_York
END:VTIMEZONE
BEGIN:VEVENT
UID:613cc0e3079e5
DTSTART;TZID=UTC:20210722T143000
SEQUENCE:0
TRANSP:OPAQUE
URL:https://bsitf.georgia.gov/events/2021-07-22/commission-meeting
SUMMARY:Commission meeting
CLASS:PUBLIC
DTSTAMP:20210911T104451Z
END:VEVENT
END:VCALENDAR