BEGIN:VCALENDAR
VERSION:2.0
PRODID:bsitf.georgia.gov
X-WR-TIMEZONE:America/New_York
BEGIN:VTIMEZONE
TZID:America/New_York
X-LIC-LOCATION:America/New_York
END:VTIMEZONE
BEGIN:VEVENT
UID:613cc0d7aea17
DTSTART;TZID=UTC:20210812T140000
SEQUENCE:0
TRANSP:OPAQUE
URL:https://bsitf.georgia.gov/events/2021-08-12/communications-committee-me
 eting
SUMMARY:Communications committee meeting
CLASS:PUBLIC
DTSTAMP:20210911T104439Z
END:VEVENT
END:VCALENDAR