BEGIN:VCALENDAR
VERSION:2.0
PRODID:bsitf.georgia.gov
X-WR-TIMEZONE:America/New_York
BEGIN:VTIMEZONE
TZID:America/New_York
X-LIC-LOCATION:America/New_York
END:VTIMEZONE
BEGIN:VEVENT
UID:613cc0c6cd67c
DTSTART;TZID=UTC:20210819T133000
SEQUENCE:0
TRANSP:OPAQUE
URL:https://bsitf.georgia.gov/events/2021-08-19/children-and-youth-committe
 e-meeting
SUMMARY:Children and Youth committee meeting
CLASS:PUBLIC
DTSTAMP:20210911T104422Z
END:VEVENT
END:VCALENDAR