BEGIN:VCALENDAR
VERSION:2.0
PRODID:bsitf.georgia.gov
X-WR-TIMEZONE:America/New_York
BEGIN:VTIMEZONE
TZID:America/New_York
X-LIC-LOCATION:America/New_York
END:VTIMEZONE
BEGIN:VEVENT
UID:613cc0b462929
DTSTART;TZID=UTC:20210903T110000
SEQUENCE:0
TRANSP:OPAQUE
DTEND;TZID=UTC:20210903T210000
URL:https://bsitf.georgia.gov/events/2021-09-03/office-closed-friday-septem
 ber-3-2021
SUMMARY:Office Closed Friday September 3\, 2021
CLASS:PUBLIC
DTSTAMP:20210911T104404Z
END:VEVENT
END:VCALENDAR