BEGIN:VCALENDAR
VERSION:2.0
PRODID:bsitf.georgia.gov
X-WR-TIMEZONE:America/New_York
BEGIN:VTIMEZONE
TZID:America/New_York
X-LIC-LOCATION:America/New_York
END:VTIMEZONE
BEGIN:VEVENT
UID:613cc0a9103a7
DTSTART;TZID=UTC:20210906T110000
SEQUENCE:0
TRANSP:OPAQUE
DTEND;TZID=UTC:20210906T220000
URL:https://bsitf.georgia.gov/events/2021-09-06/office-closed-monday-septem
 ber-6-2021-labor-day-holiday
SUMMARY:Office Closed Monday September 6\, 2021 for the Labor Day holiday
CLASS:PUBLIC
DTSTAMP:20210911T104353Z
END:VEVENT
END:VCALENDAR