BEGIN:VCALENDAR
VERSION:2.0
PRODID:bsitf.georgia.gov
X-WR-TIMEZONE:America/New_York
BEGIN:VTIMEZONE
TZID:America/New_York
X-LIC-LOCATION:America/New_York
END:VTIMEZONE
BEGIN:VEVENT
UID:613ec355ea752
DTSTART;TZID=UTC:20180809T140000
SEQUENCE:0
TRANSP:OPAQUE
DTEND;TZID=UTC:20180809T140000
URL:https://bsitf.georgia.gov/events/communications-committee
SUMMARY:Communications committee
CLASS:PUBLIC
DESCRIPTION:The Communications committee will meet on Thursday August 9\, 2
 018 at 10:00 a.m. via teleconference call. \n\nFor more information call 1
 -888-233-5760.
DTSTAMP:20210912T231949Z
END:VEVENT
END:VCALENDAR