BEGIN:VCALENDAR
VERSION:2.0
PRODID:bsitf.georgia.gov
X-WR-TIMEZONE:America/New_York
BEGIN:VTIMEZONE
TZID:America/New_York
X-LIC-LOCATION:America/New_York
END:VTIMEZONE
BEGIN:VEVENT
UID:613ec34906ff4
DTSTART;TZID=UTC:20180814T143000
SEQUENCE:0
TRANSP:OPAQUE
DTEND;TZID=UTC:20180814T143000
URL:https://bsitf.georgia.gov/events/distribution-committee-meeting
SUMMARY:Distribution committee meeting
CLASS:PUBLIC
DESCRIPTION:The Distribution committee will meet on Tuesday August 14\, 201
 8 at 10:30 a.m. via teleconference call. \n\nFor more information call 1-8
 88-233-5760.
DTSTAMP:20210912T231937Z
END:VEVENT
END:VCALENDAR