BEGIN:VCALENDAR
VERSION:2.0
PRODID:bsitf.georgia.gov
X-WR-TIMEZONE:America/New_York
BEGIN:VTIMEZONE
TZID:America/New_York
X-LIC-LOCATION:America/New_York
END:VTIMEZONE
BEGIN:VEVENT
UID:613ec33e13b2c
DTSTART;TZID=UTC:20180816T133000
SEQUENCE:0
TRANSP:OPAQUE
DTEND;TZID=UTC:20180816T133000
URL:https://bsitf.georgia.gov/events/children-and-youth-committee-meeting
SUMMARY:Children and Youth committee meeting
CLASS:PUBLIC
DESCRIPTION:The Children and Youth committee will meet on Thursday August 1
 6\, 2018 at 9:30 a.m. via teleconference call. \n\nFor more information ca
 ll 1-888-233-5760.
DTSTAMP:20210912T231926Z
END:VEVENT
END:VCALENDAR