BEGIN:VCALENDAR
VERSION:2.0
PRODID:bsitf.georgia.gov
X-WR-TIMEZONE:America/New_York
BEGIN:VTIMEZONE
TZID:America/New_York
X-LIC-LOCATION:America/New_York
END:VTIMEZONE
BEGIN:VEVENT
UID:613ec34fe0a9e
DTSTART;TZID=UTC:20180813T170000
SEQUENCE:0
TRANSP:OPAQUE
DTEND;TZID=UTC:20180813T170000
URL:https://bsitf.georgia.gov/events/finance-committee-meeting
SUMMARY:Finance committee meeting
CLASS:PUBLIC
DESCRIPTION:The Finance committee will meet on Monday August 13\, 2018 at 1
 :00 p.m. via teleconference call. \n\nFor more information call 1-888-233-
 5760.
DTSTAMP:20210912T231943Z
END:VEVENT
END:VCALENDAR