BEGIN:VCALENDAR
PRODID:bsitf.georgia.gov
VERSION:2.0
CALSCALE:GREGORIAN
BEGIN:VEVENT
UID:bbb304b25602e090e6946ffacf3bcaa7
DTSTAMP:20260424T205706Z
SUMMARY:Ad Hoc committee meeting
DESCRIPTION:The Ad Hoc committee will meet on Tuesday August 7\, 2018 at 11
 :00 a.m. via teleconference call. \n\nFor more information call 1-888-233-
 5760.
URL:https://bsitf.georgia.gov/events/ad-hoc-committee-meeting
DTSTART;VALUE=DATE:20180807
DTEND;VALUE=DATE:20180808
X-LIC-LOCATION:America/New_York
X-WR-TIMEZONE:America/New_York
END:VEVENT
BEGIN:VTIMEZONE
TZID:America/New_York
END:VTIMEZONE
END:VCALENDAR
