BEGIN:VCALENDAR
VERSION:2.0
PRODID:bsitf.georgia.gov
X-WR-TIMEZONE:America/New_York
BEGIN:VTIMEZONE
TZID:America/New_York
X-LIC-LOCATION:America/New_York
END:VTIMEZONE
BEGIN:VEVENT
UID:613eba14833df
DTSTART;TZID=UTC:20180823T143000
SEQUENCE:0
TRANSP:OPAQUE
DTEND;TZID=UTC:20180823T143000
URL:https://bsitf.georgia.gov/events/commission-meeting
SUMMARY:Commission meeting
CLASS:PUBLIC
DESCRIPTION:The Brain and Spinal Injury Trust Fund Commission will meet on 
 Thursday August 23\, 2018 at 10:30 a.m. in the Commission offices at 2 Pea
 chtree St NW Suite 26-416 Atlanta\, GA 30303 in the large conference room.
  Teleconferencing is also available. \n\nFor more information call 1-888-2
 33-5760.
DTSTAMP:20210912T224020Z
END:VEVENT
END:VCALENDAR