BEGIN:VCALENDAR
VERSION:2.0
PRODID:bsitf.georgia.gov
X-WR-TIMEZONE:America/New_York
BEGIN:VTIMEZONE
TZID:America/New_York
X-LIC-LOCATION:America/New_York
END:VTIMEZONE
BEGIN:VEVENT
UID:6140c28b5aad8
DTSTART;TZID=UTC:20181115T153000
SEQUENCE:0
TRANSP:OPAQUE
DTEND;TZID=UTC:20181115T153000
URL:https://bsitf.georgia.gov/events/commission-meeting-1
SUMMARY:Commission meeting
CLASS:PUBLIC
DESCRIPTION:The BSITF Commission will meet on Thursday November 15\, 2018 a
 t 10:30 a.m. in the Commission offices at 2 Peachtree St NW Suite 26-121 A
 tlanta\, GA 30303 in the large conference room. Teleconferencing is availa
 ble. \n\nFor more information call 1-888-233-5760.
DTSTAMP:20210914T114059Z
END:VEVENT
END:VCALENDAR