BEGIN:VCALENDAR
VERSION:2.0
PRODID:bsitf.georgia.gov
X-WR-TIMEZONE:America/New_York
BEGIN:VTIMEZONE
TZID:America/New_York
X-LIC-LOCATION:America/New_York
END:VTIMEZONE
BEGIN:VEVENT
UID:6140c284cce87
DTSTART;TZID=UTC:20181126T150000
SEQUENCE:0
TRANSP:OPAQUE
DTEND;TZID=UTC:20181126T150000
URL:https://bsitf.georgia.gov/events/advisory-committee-meeting-0
SUMMARY:Advisory committee meeting
CLASS:PUBLIC
DESCRIPTION:The Advisory Committee will meet on Monday November 26\, 2018 a
 t 10:00 a.m. in the Commission offices at 2 Peachtree St NW Suite 26-121 A
 tlanta\, GA in the large conference room. Teleconferencing is available. \
 n\nFor more information call 1-888-233-5760.
DTSTAMP:20210914T114052Z
END:VEVENT
END:VCALENDAR