BEGIN:VCALENDAR
VERSION:2.0
PRODID:bsitf.georgia.gov
X-WR-TIMEZONE:America/New_York
BEGIN:VTIMEZONE
TZID:America/New_York
X-LIC-LOCATION:America/New_York
END:VTIMEZONE
BEGIN:VEVENT
UID:6140c27d53bee
DTSTART;TZID=UTC:20181211T153000
SEQUENCE:0
TRANSP:OPAQUE
DTEND;TZID=UTC:20181211T153000
URL:https://bsitf.georgia.gov/events/distribution-committee-meeting-3
SUMMARY:Distribution committee meeting 
CLASS:PUBLIC
DESCRIPTION:The Distribution committee will meet on Tuesday December 11\, 2
 018 at 10:30 a.m. via teleconference call. \n\nFor more information call 1
 -888-233-5760.
DTSTAMP:20210914T114045Z
END:VEVENT
END:VCALENDAR