BEGIN:VCALENDAR
VERSION:2.0
PRODID:bsitf.georgia.gov
X-WR-TIMEZONE:America/New_York
BEGIN:VTIMEZONE
TZID:America/New_York
X-LIC-LOCATION:America/New_York
END:VTIMEZONE
BEGIN:VEVENT
UID:6140b8f28afcc
DTSTART;TZID=UTC:20181212T150000
SEQUENCE:0
TRANSP:OPAQUE
DTEND;TZID=UTC:20181212T150000
URL:https://bsitf.georgia.gov/events/executive-committee-meeting-3
SUMMARY:Executive committee meeting
CLASS:PUBLIC
DESCRIPTION:The Executive committee will meet on Tuesday December 12\, 2018
  at 10:00 a.m. via teleconference call. \n\nFor more information call 1-88
 8-233-5760.
DTSTAMP:20210914T110002Z
END:VEVENT
END:VCALENDAR