BEGIN:VCALENDAR
VERSION:2.0
PRODID:bsitf.georgia.gov
X-WR-TIMEZONE:America/New_York
BEGIN:VTIMEZONE
TZID:America/New_York
X-LIC-LOCATION:America/New_York
END:VTIMEZONE
BEGIN:VEVENT
UID:6140b8e4a6ee0
DTSTART;TZID=UTC:20181220T153000
SEQUENCE:0
TRANSP:OPAQUE
DTEND;TZID=UTC:20181220T153000
URL:https://bsitf.georgia.gov/events/commission-meeting-2
SUMMARY:Commission meeting
CLASS:PUBLIC
DESCRIPTION:The Brain and Spinal Injury Trust Fund Commission will meet on 
 Thursday December 20\, 2018 at 10:30 a.m. in the Commission offices at 2 P
 eachtree St. NW Suite 26-416 Atlanta\, GA 30303 in the large conference ro
 om. Teleconferencing is available.\n\nFor more information call 1-888-233-
 5760.
DTSTAMP:20210914T105948Z
END:VEVENT
END:VCALENDAR