BEGIN:VCALENDAR
VERSION:2.0
PRODID:bsitf.georgia.gov
X-WR-TIMEZONE:America/New_York
BEGIN:VTIMEZONE
TZID:America/New_York
X-LIC-LOCATION:America/New_York
END:VTIMEZONE
BEGIN:VEVENT
UID:6140aec01054c
DTSTART;TZID=UTC:20190115T153000
SEQUENCE:0
TRANSP:OPAQUE
DTEND;TZID=UTC:20190115T153000
URL:https://bsitf.georgia.gov/events/distribution-committee-meeting-4
SUMMARY:Distribution committee meeting
CLASS:PUBLIC
DESCRIPTION:The Distribution committee will meet on Tuesday January 15\, 20
 19 at 10:30 a.m. via teleconference call. \n\nFor more information call 1-
 888-233-5760.
DTSTAMP:20210914T101632Z
END:VEVENT
END:VCALENDAR