BEGIN:VCALENDAR
VERSION:2.0
PRODID:bsitf.georgia.gov
X-WR-TIMEZONE:America/New_York
BEGIN:VTIMEZONE
TZID:America/New_York
X-LIC-LOCATION:America/New_York
END:VTIMEZONE
BEGIN:VEVENT
UID:6140aeb769fb3
DTSTART;TZID=UTC:20190116T150000
SEQUENCE:0
TRANSP:OPAQUE
DTEND;TZID=UTC:20190116T150000
URL:https://bsitf.georgia.gov/events/executive-committee-meeting-4
SUMMARY:Executive committee meeting
CLASS:PUBLIC
DESCRIPTION:The Executive committee will meet on Wednesday January 16\, 201
 9 at 10:30 a.m. via teleconference call. \n\nFor more information call 1-8
 88-233-5760.
DTSTAMP:20210914T101623Z
END:VEVENT
END:VCALENDAR