BEGIN:VCALENDAR
VERSION:2.0
PRODID:bsitf.georgia.gov
X-WR-TIMEZONE:America/New_York
BEGIN:VTIMEZONE
TZID:America/New_York
X-LIC-LOCATION:America/New_York
END:VTIMEZONE
BEGIN:VEVENT
UID:6140a544283bd
DTSTART;TZID=UTC:20190117T143000
SEQUENCE:0
TRANSP:OPAQUE
DTEND;TZID=UTC:20190117T143000
URL:https://bsitf.georgia.gov/events/children-and-youth-committee-meeting-1
SUMMARY:Children and Youth committee meeting
CLASS:PUBLIC
DESCRIPTION:The Children and Youth committee will meet on Thursday January 
 17\, 2019 at 10:30 a.m. via teleconference call. \n\nFor more information 
 call 1-888-233-5760.
DTSTAMP:20210914T093604Z
END:VEVENT
END:VCALENDAR