BEGIN:VCALENDAR
VERSION:2.0
PRODID:bsitf.georgia.gov
X-WR-TIMEZONE:America/New_York
BEGIN:VTIMEZONE
TZID:America/New_York
X-LIC-LOCATION:America/New_York
END:VTIMEZONE
BEGIN:VEVENT
UID:6140927cae451
DTSTART;TZID=UTC:20190128T150000
SEQUENCE:0
TRANSP:OPAQUE
DTEND;TZID=UTC:20190128T150000
URL:https://bsitf.georgia.gov/events/advisory-committee-meeting-1
SUMMARY:Advisory committee meeting
CLASS:PUBLIC
DESCRIPTION:The Advisory committee will meet on Monday January 28\, 2019 at
  10:00 a.m. via teleconference call. \n\nFor more information call 1-888-2
 33-5760.
DTSTAMP:20210914T081556Z
END:VEVENT
END:VCALENDAR