BEGIN:VCALENDAR
VERSION:2.0
PRODID:bsitf.georgia.gov
X-WR-TIMEZONE:America/New_York
BEGIN:VTIMEZONE
TZID:America/New_York
X-LIC-LOCATION:America/New_York
END:VTIMEZONE
BEGIN:VEVENT
UID:6140aec538020
DTSTART;TZID=UTC:20190114T190000
SEQUENCE:0
TRANSP:OPAQUE
DTEND;TZID=UTC:20190114T190000
URL:https://bsitf.georgia.gov/events/public-policy-committee-meeting
SUMMARY:Public Policy committee meeting
CLASS:PUBLIC
DESCRIPTION:The Public Policy committee will meet Monday January 14\, 2018 
 at 2:00 p.m. via teleconference call. \n\nFor more information call 1-888-
 233-5760.
DTSTAMP:20210914T101637Z
END:VEVENT
END:VCALENDAR