BEGIN:VCALENDAR
VERSION:2.0
PRODID:bsitf.georgia.gov
X-WR-TIMEZONE:America/New_York
BEGIN:VTIMEZONE
TZID:America/New_York
X-LIC-LOCATION:America/New_York
END:VTIMEZONE
BEGIN:VEVENT
UID:6140aecb42f74
DTSTART;TZID=UTC:20190110T150000
SEQUENCE:0
TRANSP:OPAQUE
DTEND;TZID=UTC:20190110T150000
URL:https://bsitf.georgia.gov/events/communications-committee-meeting-1
SUMMARY:Communications committee meeting
CLASS:PUBLIC
DESCRIPTION:The Communications committee will meet on Thursday January 10\,
  2019 at 10:00 a.m. via teleconference call.\n\nFor more information call 
 1-888-233-5760.
DTSTAMP:20210914T101643Z
END:VEVENT
END:VCALENDAR